BEGIN:VCALENDAR
PRODID:Nexudus
VERSION:2.0
BEGIN:VTIMEZONE
TZID:America/Chicago
X-LIC-LOCATION:America/Chicago
BEGIN:STANDARD
DTSTART:20241103T020000
RRULE:FREQ=YEARLY;BYDAY=1SU;BYMONTH=11
TZNAME:CST
TZOFFSETFROM:-0500
TZOFFSETTO:-0600
END:STANDARD
BEGIN:DAYLIGHT
DTSTART:20250309T020000
RRULE:FREQ=YEARLY;BYDAY=2SU;BYMONTH=3
TZNAME:CDT
TZOFFSETFROM:-0600
TZOFFSETTO:-0500
END:DAYLIGHT
END:VTIMEZONE
BEGIN:VEVENT
DESCRIPTION:Fall 2021 Tenant Event at Collaborate\nEvent link: https://coll
 aboratecommunity.com/en/events/view/1414978186/-warm-your-belly--soup-shar
 e---tenant-event-fall-2021\n
DTEND;TZID=America/Chicago:20211103T130000
DTSTAMP:20260420T140834Z
DTSTART;TZID=America/Chicago:20211103T113000
LOCATION:Collaborate
SEQUENCE:0
SUMMARY:"Warm Your Belly" Soup Share - Tenant Event Fall 2021
UID:af95effb-abb3-4c82-871c-6cc515b6d957
END:VEVENT
END:VCALENDAR
