BEGIN:VCALENDAR
PRODID:Nexudus
VERSION:2.0
BEGIN:VTIMEZONE
TZID:America/Chicago
X-LIC-LOCATION:America/Chicago
BEGIN:STANDARD
DTSTART:20241103T020000
RRULE:FREQ=YEARLY;BYDAY=1SU;BYMONTH=11
TZNAME:CST
TZOFFSETFROM:-0500
TZOFFSETTO:-0600
END:STANDARD
BEGIN:DAYLIGHT
DTSTART:20250309T020000
RRULE:FREQ=YEARLY;BYDAY=2SU;BYMONTH=3
TZNAME:CDT
TZOFFSETFROM:-0600
TZOFFSETTO:-0500
END:DAYLIGHT
END:VTIMEZONE
BEGIN:VEVENT
DESCRIPTION:Tenant Patio Party (Spring 2022)\nEvent link: https://collabora
 tecommunity.com/en/events/view/1415029730/tenant-patio-party--spring-2022-
 \n
DTEND;TZID=America/Chicago:20220406T143000
DTSTAMP:20260422T083211Z
DTSTART;TZID=America/Chicago:20220406T130000
LOCATION:Collaborate
SEQUENCE:0
SUMMARY:Tenant Patio Party (Spring 2022)
UID:1f0214c5-4570-4920-a39a-c2e1e03b19c6
END:VEVENT
END:VCALENDAR
